BEGIN:VCALENDAR
VERSION:2.0
PRODID:-//Adham Somantrie/AyoLariin//NONSGML v1.0//EN
CALSCALE:GREGORIAN
BEGIN:VEVENT
UID:82ca5dd156cc926b2992f73c2896f761
DTSTAMP:20260420T021748Z
DTEND;VALUE=DATE;TZID=ASIA-JAKARTA:20261024
LOCATION:Jakarta
DESCRIPTION:ayolari.in 
URL;VALUE=URI:https://ayolari.in/lomba/jakarta-running-festival-2026
SUMMARY:Jakarta Running Festival 2026
DTSTART;VALUE=DATE;TZID=ASIA-JAKARTA:20261024
TRANSP:TRANSPARENT
END:VEVENT
BEGIN:VEVENT
UID:1bf0c59238dd24a7f09a889483a50e8f
DTSTAMP:20260420T021748Z
DTEND;VALUE=DATE;TZID=ASIA-JAKARTA:20261018
LOCATION:Jakarta
DESCRIPTION:ayolari.in 
URL;VALUE=URI:https://ayolari.in/lomba/alfamart-run-2026
SUMMARY:Alfamart Run 2026
DTSTART;VALUE=DATE;TZID=ASIA-JAKARTA:20261018
TRANSP:TRANSPARENT
END:VEVENT
BEGIN:VEVENT
UID:c3a690be93aa602ee2dc0ccab5b7b67e
DTSTAMP:20260420T021748Z
DTEND;VALUE=DATE;TZID=ASIA-JAKARTA:20261004
LOCATION:Surabaya
DESCRIPTION:ayolari.in 
URL;VALUE=URI:https://ayolari.in/lomba/isoplus-run-2026-surabaya
SUMMARY:Isoplus Run 2026 - Surabaya
DTSTART;VALUE=DATE;TZID=ASIA-JAKARTA:20261004
TRANSP:TRANSPARENT
END:VEVENT
BEGIN:VEVENT
UID:070dbb6024b5ef93784428afc71f2146
DTSTAMP:20260420T021748Z
DTEND;VALUE=DATE;TZID=ASIA-JAKARTA:20260927
LOCATION:Semarang
DESCRIPTION:ayolari.in 
URL;VALUE=URI:https://ayolari.in/lomba/gtr-ultra-2026
SUMMARY:GTR ULTRA 2026
DTSTART;VALUE=DATE;TZID=ASIA-JAKARTA:20260927
TRANSP:TRANSPARENT
END:VEVENT
BEGIN:VEVENT
UID:217c0e01c1828e7279051f1b6675745d
DTSTAMP:20260420T021748Z
DTEND;VALUE=DATE;TZID=ASIA-JAKARTA:20260920
LOCATION:Jakarta
DESCRIPTION:ayolari.in 
URL;VALUE=URI:https://ayolari.in/lomba/garmin-run-asia-series-2026-indonesia
SUMMARY:Garmin Run Asia Series 2026 – Indonesia
DTSTART;VALUE=DATE;TZID=ASIA-JAKARTA:20260920
TRANSP:TRANSPARENT
END:VEVENT
BEGIN:VEVENT
UID:0d7363894acdee742caf7fe4e97c4d49
DTSTAMP:20260420T021748Z
DTEND;VALUE=DATE;TZID=ASIA-JAKARTA:20260919
LOCATION:Bandung
DESCRIPTION:ayolari.in 
URL;VALUE=URI:https://ayolari.in/lomba/pocari-sweat-run-2026-bandung
SUMMARY:Pocari Sweat Run 2026 Bandung
DTSTART;VALUE=DATE;TZID=ASIA-JAKARTA:20260919
TRANSP:TRANSPARENT
END:VEVENT
BEGIN:VEVENT
UID:9824f9c1543628a85bb51d2dd6fcf8a3
DTSTAMP:20260420T021748Z
DTEND;VALUE=DATE;TZID=ASIA-JAKARTA:20260906
LOCATION:Bromo
DESCRIPTION:ayolari.in 
URL;VALUE=URI:https://ayolari.in/lomba/bromo-marathon-2026
SUMMARY:Bromo Marathon 2026
DTSTART;VALUE=DATE;TZID=ASIA-JAKARTA:20260906
TRANSP:TRANSPARENT
END:VEVENT
BEGIN:VEVENT
UID:e92d74ccacdc984afa0c517ad0d557a6
DTSTAMP:20260420T021748Z
DTEND;VALUE=DATE;TZID=ASIA-JAKARTA:20260906
LOCATION:Jakarta
DESCRIPTION:ayolari.in 
URL;VALUE=URI:https://ayolari.in/lomba/isoplus-run-2026-jakarta
SUMMARY:Isoplus Run 2026 - Jakarta
DTSTART;VALUE=DATE;TZID=ASIA-JAKARTA:20260906
TRANSP:TRANSPARENT
END:VEVENT
BEGIN:VEVENT
UID:85353d3b2f39b9c9b5ee3576578c04b7
DTSTAMP:20260420T021748Z
DTEND;VALUE=DATE;TZID=ASIA-JAKARTA:20260830
LOCATION:Tangerang
DESCRIPTION:ayolari.in 
URL;VALUE=URI:https://ayolari.in/lomba/jco-run-2026
SUMMARY:JCO RUN 2026
DTSTART;VALUE=DATE;TZID=ASIA-JAKARTA:20260830
TRANSP:TRANSPARENT
END:VEVENT
BEGIN:VEVENT
UID:234833147b97bb6aed53a8f4f1c7a7d8
DTSTAMP:20260420T021748Z
DTEND;VALUE=DATE;TZID=ASIA-JAKARTA:20260823
LOCATION:Gianyar\, Bali
DESCRIPTION:ayolari.in 
URL;VALUE=URI:https://ayolari.in/lomba/maybank-marathon-2026
SUMMARY:Maybank Marathon 2026
DTSTART;VALUE=DATE;TZID=ASIA-JAKARTA:20260823
TRANSP:TRANSPARENT
END:VEVENT
BEGIN:VEVENT
UID:ba3e9b6a519cfddc560b5d53210df1bd
DTSTAMP:20260420T021748Z
DTEND;VALUE=DATE;TZID=ASIA-JAKARTA:20260815
LOCATION:Tangerang
DESCRIPTION:ayolari.in 
URL;VALUE=URI:https://ayolari.in/lomba/titan-run-2026
SUMMARY:Titan Run 2026
DTSTART;VALUE=DATE;TZID=ASIA-JAKARTA:20260815
TRANSP:TRANSPARENT
END:VEVENT
BEGIN:VEVENT
UID:2aedcba61ca55ceb62d785c6b7f10a83
DTSTAMP:20260420T021748Z
DTEND;VALUE=DATE;TZID=ASIA-JAKARTA:20260726
LOCATION:Jakarta
DESCRIPTION:ayolari.in 
URL;VALUE=URI:https://ayolari.in/lomba/head-shoulders-super-cool-run-2026
SUMMARY:Head & Shoulders Super Cool Run 2026
DTSTART;VALUE=DATE;TZID=ASIA-JAKARTA:20260726
TRANSP:TRANSPARENT
END:VEVENT
BEGIN:VEVENT
UID:9657c1fffd38824e5ab0472e022e577e
DTSTAMP:20260420T021748Z
DTEND;VALUE=DATE;TZID=ASIA-JAKARTA:20260719
LOCATION:Tangerang
DESCRIPTION:ayolari.in 
URL;VALUE=URI:https://ayolari.in/lomba/pancasakti-run
SUMMARY:Pancasakti Run
DTSTART;VALUE=DATE;TZID=ASIA-JAKARTA:20260719
TRANSP:TRANSPARENT
END:VEVENT
BEGIN:VEVENT
UID:a6d259bfbfa2062843ef543e21d7ec8e
DTSTAMP:20260420T021748Z
DTEND;VALUE=DATE;TZID=ASIA-JAKARTA:20260711
LOCATION:Lombok
DESCRIPTION:ayolari.in 
URL;VALUE=URI:https://ayolari.in/lomba/pocari-sweat-run-lombok-2026
SUMMARY:Pocari Sweat Run Lombok 2026
DTSTART;VALUE=DATE;TZID=ASIA-JAKARTA:20260711
TRANSP:TRANSPARENT
END:VEVENT
BEGIN:VEVENT
UID:0e4a2c65bdaddd66a53422d93daebe68
DTSTAMP:20260420T021748Z
DTEND;VALUE=DATE;TZID=ASIA-JAKARTA:20260628
LOCATION:Bandung
DESCRIPTION:ayolari.in 
URL;VALUE=URI:https://ayolari.in/lomba/tiento-run-10k-2026
SUMMARY:Tiento Run 10K 2026
DTSTART;VALUE=DATE;TZID=ASIA-JAKARTA:20260628
TRANSP:TRANSPARENT
END:VEVENT
BEGIN:VEVENT
UID:6be93f7a96fed60c477d30ae1de032fd
DTSTAMP:20260420T021748Z
DTEND;VALUE=DATE;TZID=ASIA-JAKARTA:20260621
LOCATION:Yogyakarta
DESCRIPTION:ayolari.in 
URL;VALUE=URI:https://ayolari.in/lomba/mandiri-jogja-marathon-2026
SUMMARY:Mandiri Jogja Marathon 2026
DTSTART;VALUE=DATE;TZID=ASIA-JAKARTA:20260621
TRANSP:TRANSPARENT
END:VEVENT
BEGIN:VEVENT
UID:4be5a36cbaca8ab9d2066debfe4e65c1
DTSTAMP:20260420T021748Z
DTEND;VALUE=DATE;TZID=ASIA-JAKARTA:20260621
LOCATION:Jakarta
DESCRIPTION:ayolari.in 
URL;VALUE=URI:https://ayolari.in/lomba/urban-republic-urmazing-run-2026
SUMMARY:Urban Republic URMazing Run 2026
DTSTART;VALUE=DATE;TZID=ASIA-JAKARTA:20260621
TRANSP:TRANSPARENT
END:VEVENT
BEGIN:VEVENT
UID:55a988dfb00a914717b3000a3374694c
DTSTAMP:20260420T021748Z
DTEND;VALUE=DATE;TZID=ASIA-JAKARTA:20260613
LOCATION:Jakarta
DESCRIPTION:ayolari.in 
URL;VALUE=URI:https://ayolari.in/lomba/btn-jakarta-international-marathon-2026
SUMMARY:BTN Jakarta International Marathon 2026
DTSTART;VALUE=DATE;TZID=ASIA-JAKARTA:20260613
TRANSP:TRANSPARENT
END:VEVENT
BEGIN:VEVENT
UID:86ecfcbc1e9f1ae5ee2d71910877da36
DTSTAMP:20260420T021748Z
DTEND;VALUE=DATE;TZID=ASIA-JAKARTA:20260607
LOCATION:Jakarta
DESCRIPTION:ayolari.in 
URL;VALUE=URI:https://ayolari.in/lomba/one-piece-indonesia-run-2026
SUMMARY:One Piece Indonesia Run 2026
DTSTART;VALUE=DATE;TZID=ASIA-JAKARTA:20260607
TRANSP:TRANSPARENT
END:VEVENT
BEGIN:VEVENT
UID:1b113258af3968aaf3969ca67e744ff8
DTSTAMP:20260420T021748Z
DTEND;VALUE=DATE;TZID=ASIA-JAKARTA:20260531
LOCATION:Jakarta
DESCRIPTION:ayolari.in 
URL;VALUE=URI:https://ayolari.in/lomba/yellow-run-2026
SUMMARY:Yellow Run 2026
DTSTART;VALUE=DATE;TZID=ASIA-JAKARTA:20260531
TRANSP:TRANSPARENT
END:VEVENT
BEGIN:VEVENT
UID:9407c826d8e3c07ad37cb2d13d1cb641
DTSTAMP:20260420T021748Z
DTEND;VALUE=DATE;TZID=ASIA-JAKARTA:20260524
LOCATION:Tangerang
DESCRIPTION:ayolari.in 
URL;VALUE=URI:https://ayolari.in/lomba/bfi-run-2026
SUMMARY:BFI Run 2026
DTSTART;VALUE=DATE;TZID=ASIA-JAKARTA:20260524
TRANSP:TRANSPARENT
END:VEVENT
BEGIN:VEVENT
UID:921c2dc40d0b979c2910298d2f880152
DTSTAMP:20260420T021748Z
DTEND;VALUE=DATE;TZID=ASIA-JAKARTA:20260524
LOCATION:Jakarta
DESCRIPTION:ayolari.in 
URL;VALUE=URI:https://ayolari.in/lomba/starbucks-run-2026
SUMMARY:Starbucks Run 2026
DTSTART;VALUE=DATE;TZID=ASIA-JAKARTA:20260524
TRANSP:TRANSPARENT
END:VEVENT
BEGIN:VEVENT
UID:4a1590df1d5968d41b855005bb8b67bf
DTSTAMP:20260420T021748Z
DTEND;VALUE=DATE;TZID=ASIA-JAKARTA:20260517
LOCATION:Salatiga
DESCRIPTION:ayolari.in 
URL;VALUE=URI:https://ayolari.in/lomba/demmerick-run-2026-488f
SUMMARY:d'Emmerick Run 2026
DTSTART;VALUE=DATE;TZID=ASIA-JAKARTA:20260517
TRANSP:TRANSPARENT
END:VEVENT
BEGIN:VEVENT
UID:f0f6ba4b5e0000340312d33c212c3ae8
DTSTAMP:20260420T021748Z
DTEND;VALUE=DATE;TZID=ASIA-JAKARTA:20260517
LOCATION:Bandung
DESCRIPTION:ayolari.in 
URL;VALUE=URI:https://ayolari.in/lomba/bank-bjb-bandoeng-10k
SUMMARY:Bank BJB Bandoeng 10K
DTSTART;VALUE=DATE;TZID=ASIA-JAKARTA:20260517
TRANSP:TRANSPARENT
END:VEVENT
BEGIN:VEVENT
UID:b21f9f98829dea9a48fd8aaddc1f159d
DTSTAMP:20260420T021748Z
DTEND;VALUE=DATE;TZID=ASIA-JAKARTA:20260510
LOCATION:Bogor
DESCRIPTION:ayolari.in 
URL;VALUE=URI:https://ayolari.in/lomba/bogorun-2026
SUMMARY:Bogorun 2026
DTSTART;VALUE=DATE;TZID=ASIA-JAKARTA:20260510
TRANSP:TRANSPARENT
END:VEVENT
BEGIN:VEVENT
UID:7827d1ec626c891d4b61a15c9dff296e
DTSTAMP:20260420T021748Z
DTEND;VALUE=DATE;TZID=ASIA-JAKARTA:20260503
LOCATION:Solo
DESCRIPTION:ayolari.in 
URL;VALUE=URI:https://ayolari.in/lomba/mangkunegaran-run-2026
SUMMARY:Mangkunegaran Run 2026
DTSTART;VALUE=DATE;TZID=ASIA-JAKARTA:20260503
TRANSP:TRANSPARENT
END:VEVENT
BEGIN:VEVENT
UID:d7619beb6eb189509885fbc192d2874b
DTSTAMP:20260420T021748Z
DTEND;VALUE=DATE;TZID=ASIA-JAKARTA:20260503
LOCATION:Virtual Run
DESCRIPTION:ayolari.in 
URL;VALUE=URI:https://ayolari.in/lomba/sunpride-virtual-run-2026
SUMMARY:Sunpride Virtual Run 2026
DTSTART;VALUE=DATE;TZID=ASIA-JAKARTA:20260503
TRANSP:TRANSPARENT
END:VEVENT
BEGIN:VEVENT
UID:31c97cbb941d3e92d0e6f9925e9bc4d7
DTSTAMP:20260420T021748Z
DTEND;VALUE=DATE;TZID=ASIA-JAKARTA:20260426
LOCATION:Malang
DESCRIPTION:ayolari.in 
URL;VALUE=URI:https://ayolari.in/lomba/ms-glow-for-men-malang-half-marathon
SUMMARY:MS Glow For Men Malang Half Marathon
DTSTART;VALUE=DATE;TZID=ASIA-JAKARTA:20260426
TRANSP:TRANSPARENT
END:VEVENT
BEGIN:VEVENT
UID:0747b9be4f90056c30eb5241f06bfe9b
DTSTAMP:20260420T021748Z
DTEND;VALUE=DATE;TZID=ASIA-JAKARTA:20260426
LOCATION:Jakarta
DESCRIPTION:ayolari.in 
URL;VALUE=URI:https://ayolari.in/lomba/women’s-10k-2026
SUMMARY:Women’s 10K 2026
DTSTART;VALUE=DATE;TZID=ASIA-JAKARTA:20260426
TRANSP:TRANSPARENT
END:VEVENT
BEGIN:VEVENT
UID:9d28de8ff9bb6a3fa41fddfdc28f3bc1
DTSTAMP:20260420T021748Z
DTEND;VALUE=DATE;TZID=ASIA-JAKARTA:20260426
LOCATION:Jakarta
DESCRIPTION:ayolari.in 
URL;VALUE=URI:https://ayolari.in/lomba/tring-golden-run-2026
SUMMARY:Tring Golden Run 2026
DTSTART;VALUE=DATE;TZID=ASIA-JAKARTA:20260426
TRANSP:TRANSPARENT
END:VEVENT
BEGIN:VEVENT
UID:4de754248c196c85ee4fbdcee89179bd
DTSTAMP:20260420T021748Z
DTEND;VALUE=DATE;TZID=ASIA-JAKARTA:20260425
LOCATION:Belitung
DESCRIPTION:ayolari.in 
URL;VALUE=URI:https://ayolari.in/lomba/mybca-belitung-multisport-festival
SUMMARY:myBCA Belitung Multisport Festival
DTSTART;VALUE=DATE;TZID=ASIA-JAKARTA:20260425
TRANSP:TRANSPARENT
END:VEVENT
BEGIN:VEVENT
UID:92a0e7a415d64ebafcb16a8ca817cde4
DTSTAMP:20260420T021748Z
DTEND;VALUE=DATE;TZID=ASIA-JAKARTA:20260412
LOCATION:Batu
DESCRIPTION:ayolari.in 
URL;VALUE=URI:https://ayolari.in/lomba/kartini-power-run-2026
SUMMARY:Kartini Power Run 2026
DTSTART;VALUE=DATE;TZID=ASIA-JAKARTA:20260412
TRANSP:TRANSPARENT
END:VEVENT
BEGIN:VEVENT
UID:40c48dab939a482f04dcecde07e27de6
DTSTAMP:20260420T021748Z
DTEND;VALUE=DATE;TZID=ASIA-JAKARTA:20260307
LOCATION:Jakarta
DESCRIPTION:ayolari.in 
URL;VALUE=URI:https://ayolari.in/lomba/sahurun-2026
SUMMARY:Sahurun 2026
DTSTART;VALUE=DATE;TZID=ASIA-JAKARTA:20260307
TRANSP:TRANSPARENT
END:VEVENT
BEGIN:VEVENT
UID:f7ac67a9aa8d255282de7d11391e1b69
DTSTAMP:20260420T021748Z
DTEND;VALUE=DATE;TZID=ASIA-JAKARTA:20260215
LOCATION:Tangerang
DESCRIPTION:ayolari.in 
URL;VALUE=URI:https://ayolari.in/lomba/planet-sports-run-2026
SUMMARY:Planet Sports Run 2026
DTSTART;VALUE=DATE;TZID=ASIA-JAKARTA:20260215
TRANSP:TRANSPARENT
END:VEVENT
BEGIN:VEVENT
UID:b06f50d1f89bd8b2a0fb771c1a69c2b0
DTSTAMP:20260420T021748Z
DTEND;VALUE=DATE;TZID=ASIA-JAKARTA:20250725
LOCATION:Kab. Wonosobo
DESCRIPTION:ayolari.in 
URL;VALUE=URI:https://ayolari.in/lomba/sindoro-sumbing-triathlon-challenge-2025
SUMMARY:Sindoro Sumbing Triathlon Challenge 2025
DTSTART;VALUE=DATE;TZID=ASIA-JAKARTA:20250725
TRANSP:TRANSPARENT
END:VEVENT
BEGIN:VEVENT
UID:4e0223a87610176ef0d24ef6d2dcde3a
DTSTAMP:20260420T021748Z
DTEND;VALUE=DATE;TZID=ASIA-JAKARTA:20250629
LOCATION:Jakarta
DESCRIPTION:ayolari.in 
URL;VALUE=URI:https://ayolari.in/lomba/btn-jakarta-international-marathon
SUMMARY:BTN Jakarta International Marathon
DTSTART;VALUE=DATE;TZID=ASIA-JAKARTA:20250629
TRANSP:TRANSPARENT
END:VEVENT
END:VCALENDAR