BEGIN:VCALENDAR
VERSION:2.0
PRODID:-//Adham Somantrie/AyoLari.in//NONSGML v1.0//EN
CALSCALE:GREGORIAN
BEGIN:VEVENT
UID:b706835de79a2b4e80506f582af3676a
DTSTAMP:20260420T022349Z
LOCATION:Jakarta
DESCRIPTION:ayolari.in
URL;VALUE=URI:https://ayolari.in/lomba/tjanting-run-2018
SUMMARY:Tjanting Run 2018
DTSTART;VALUE=DATE;TZID=ASIA-JAKARTA:20181007
DTEND;VALUE=DATE;TZID=ASIA-JAKARTA:20181008
TRANSP:TRANSPARENT
END:VEVENT
END:VCALENDAR