BEGIN:VCALENDAR
VERSION:2.0
PRODID:-//Adham Somantrie/AyoLari.in//NONSGML v1.0//EN
CALSCALE:GREGORIAN
BEGIN:VEVENT
UID:9ab0d88431732957a618d4a469a0d4c3
DTSTAMP:20260420T022335Z
LOCATION:Bali
DESCRIPTION:ayolari.in
URL;VALUE=URI:https://ayolari.in/lomba/runtilyoudrop
SUMMARY:#RunTillYouDrop
DTSTART;VALUE=DATE;TZID=ASIA-JAKARTA:20180225
DTEND;VALUE=DATE;TZID=ASIA-JAKARTA:20180226
TRANSP:TRANSPARENT
END:VEVENT
END:VCALENDAR