BEGIN:VCALENDAR
VERSION:2.0
PRODID:-//Adham Somantrie/AyoLari.in//NONSGML v1.0//EN
CALSCALE:GREGORIAN
BEGIN:VEVENT
UID:934815ad542a4a7c5e8a2dfa04fea9f5
DTSTAMP:20260420T082241Z
LOCATION:Jakarta
DESCRIPTION:ayolari.in
URL;VALUE=URI:https://ayolari.in/lomba/jakarta-fashion-and-food-festival-jf3-run
SUMMARY:Jakarta Fashion and Food Festival (JF3) Run
DTSTART;VALUE=DATE;TZID=ASIA-JAKARTA:20180422
DTEND;VALUE=DATE;TZID=ASIA-JAKARTA:20180423
TRANSP:TRANSPARENT
END:VEVENT
END:VCALENDAR