BEGIN:VCALENDAR
VERSION:2.0
PRODID:-//Adham Somantrie/AyoLari.in//NONSGML v1.0//EN
CALSCALE:GREGORIAN
BEGIN:VEVENT
UID:692f93be8c7a41525c0baf2076aecfb4
DTSTAMP:20260420T115336Z
LOCATION:Jakarta
DESCRIPTION:ayolari.in
URL;VALUE=URI:https://ayolari.in/lomba/he-for-she-run-2018
SUMMARY:He For She Run 2018
DTSTART;VALUE=DATE;TZID=ASIA-JAKARTA:20180304
DTEND;VALUE=DATE;TZID=ASIA-JAKARTA:20180305
TRANSP:TRANSPARENT
END:VEVENT
END:VCALENDAR