BEGIN:VCALENDAR
VERSION:2.0
PRODID:-//Adham Somantrie/AyoLari.in//NONSGML v1.0//EN
CALSCALE:GREGORIAN
BEGIN:VEVENT
UID:a1140a3d0df1c81e24ae954d935e8926
DTSTAMP:20260420T081058Z
LOCATION:Yogyakarta
DESCRIPTION:ayolari.in
URL;VALUE=URI:https://ayolari.in/lomba/mandiri-jogja-marathon-2018
SUMMARY:Mandiri Jogja Marathon 2018
DTSTART;VALUE=DATE;TZID=ASIA-JAKARTA:20180415
DTEND;VALUE=DATE;TZID=ASIA-JAKARTA:20180416
TRANSP:TRANSPARENT
END:VEVENT
END:VCALENDAR