BEGIN:VCALENDAR
VERSION:2.0
PRODID:-//Adham Somantrie/AyoLari.in//NONSGML v1.0//EN
CALSCALE:GREGORIAN
BEGIN:VEVENT
UID:54a367d629152b720749e187b3eaa11b
DTSTAMP:20260420T094728Z
LOCATION:Pekanbaru
DESCRIPTION:ayolari.in
URL;VALUE=URI:https://ayolari.in/lomba/pekanbaru-ldr-10k-2018
SUMMARY:Pekanbaru LDR 10K 2018
DTSTART;VALUE=DATE;TZID=ASIA-JAKARTA:20180325
DTEND;VALUE=DATE;TZID=ASIA-JAKARTA:20180326
TRANSP:TRANSPARENT
END:VEVENT
END:VCALENDAR