BEGIN:VCALENDAR
VERSION:2.0
PRODID:-//Adham Somantrie/AyoLari.in//NONSGML v1.0//EN
CALSCALE:GREGORIAN
BEGIN:VEVENT
UID:fec8d47d412bcbeece3d9128ae855a7a
DTSTAMP:20260420T023414Z
LOCATION:Virtual Run
DESCRIPTION:ayolari.in
URL;VALUE=URI:https://ayolari.in/lomba/lariku-untukmu-presented-by-tarki-runners
SUMMARY:Lariku Untukmu presented by Tarki Runners
DTSTART;VALUE=DATE;TZID=ASIA-JAKARTA:20180214
DTEND;VALUE=DATE;TZID=ASIA-JAKARTA:20180215
TRANSP:TRANSPARENT
END:VEVENT
END:VCALENDAR