BEGIN:VCALENDAR
VERSION:2.0
PRODID:-//Adham Somantrie/AyoLari.in//NONSGML v1.0//EN
CALSCALE:GREGORIAN
BEGIN:VEVENT
UID:2ab56412b1163ee131e1246da0955bd1
DTSTAMP:20260420T022840Z
LOCATION:Samarinda
DESCRIPTION:ayolari.in
URL;VALUE=URI:https://ayolari.in/lomba/extreme-jungle-run-v
SUMMARY:Extreme Jungle Run V
DTSTART;VALUE=DATE;TZID=ASIA-JAKARTA:20180422
DTEND;VALUE=DATE;TZID=ASIA-JAKARTA:20180423
TRANSP:TRANSPARENT
END:VEVENT
END:VCALENDAR