BEGIN:VCALENDAR
VERSION:2.0
PRODID:-//Adham Somantrie/AyoLari.in//NONSGML v1.0//EN
CALSCALE:GREGORIAN
BEGIN:VEVENT
UID:cc1aa436277138f61cda703991069eaf
DTSTAMP:20260420T082356Z
LOCATION:Jakarta
DESCRIPTION:ayolari.in
URL;VALUE=URI:https://ayolari.in/lomba/walkin-drums-charity-and-fun-run
SUMMARY:Walkin Drums Charity and Fun Run
DTSTART;VALUE=DATE;TZID=ASIA-JAKARTA:20180114
DTEND;VALUE=DATE;TZID=ASIA-JAKARTA:20180115
TRANSP:TRANSPARENT
END:VEVENT
END:VCALENDAR