BEGIN:VCALENDAR
VERSION:2.0
PRODID:-//Adham Somantrie/AyoLari.in//NONSGML v1.0//EN
CALSCALE:GREGORIAN
BEGIN:VEVENT
UID:9c01802ddb981e6bcfbec0f0516b8e35
DTSTAMP:20260420T081035Z
LOCATION:Semarang
DESCRIPTION:ayolari.in
URL;VALUE=URI:https://ayolari.in/lomba/run-against-cancer-2018
SUMMARY:Run Against Cancer 2018
DTSTART;VALUE=DATE;TZID=ASIA-JAKARTA:20180204
DTEND;VALUE=DATE;TZID=ASIA-JAKARTA:20180205
TRANSP:TRANSPARENT
END:VEVENT
END:VCALENDAR