BEGIN:VCALENDAR
VERSION:2.0
PRODID:-//Adham Somantrie/AyoLari.in//NONSGML v1.0//EN
CALSCALE:GREGORIAN
BEGIN:VEVENT
UID:4311359ed4969e8401880e3c1836fbe1
DTSTAMP:20260421T204438Z
LOCATION:Yogyakarta
DESCRIPTION:ayolari.in
URL;VALUE=URI:https://ayolari.in/lomba/adisutjipto-urban-obstacle-run-2018
SUMMARY:Adisutjipto Urban Obstacle Run 2018
DTSTART;VALUE=DATE;TZID=ASIA-JAKARTA:20180304
DTEND;VALUE=DATE;TZID=ASIA-JAKARTA:20180305
TRANSP:TRANSPARENT
END:VEVENT
END:VCALENDAR