BEGIN:VCALENDAR
VERSION:2.0
PRODID:-//Adham Somantrie/AyoLari.in//NONSGML v1.0//EN
CALSCALE:GREGORIAN
BEGIN:VEVENT
UID:ca75910166da03ff9d4655a0338e6b09
DTSTAMP:20260420T040648Z
LOCATION:Tangerang Selatan
DESCRIPTION:ayolari.in
URL;VALUE=URI:https://ayolari.in/lomba/bark-in-the-park-2-pawstopia
SUMMARY:Bark in The Park 2 #PAWSTOPIA
DTSTART;VALUE=DATE;TZID=ASIA-JAKARTA:20180225
DTEND;VALUE=DATE;TZID=ASIA-JAKARTA:20180226
TRANSP:TRANSPARENT
END:VEVENT
END:VCALENDAR