BEGIN:VCALENDAR
VERSION:2.0
PRODID:-//Adham Somantrie/AyoLari.in//NONSGML v1.0//EN
CALSCALE:GREGORIAN
BEGIN:VEVENT
UID:c22abfa379f38b5b0411bc11fa9bf92f
DTSTAMP:20260420T040815Z
LOCATION:Magetan
DESCRIPTION:ayolari.in
URL;VALUE=URI:https://ayolari.in/lomba/singolangu-forestraordinary-run-2018
SUMMARY:Singolangu Forestraordinary Run 2018
DTSTART;VALUE=DATE;TZID=ASIA-JAKARTA:20180325
DTEND;VALUE=DATE;TZID=ASIA-JAKARTA:20180326
TRANSP:TRANSPARENT
END:VEVENT
END:VCALENDAR