BEGIN:VCALENDAR
VERSION:2.0
PRODID:-//Adham Somantrie/AyoLari.in//NONSGML v1.0//EN
CALSCALE:GREGORIAN
BEGIN:VEVENT
UID:89fcd07f20b6785b92134bd6c1d0fa42
DTSTAMP:20260421T203352Z
LOCATION:Singkawang\, Kalimantan Barat
DESCRIPTION:ayolari.in
URL;VALUE=URI:https://ayolari.in/lomba/cap-go-meh-run-singkawang-2018
SUMMARY:Cap Go Meh Run Singkawang 2018
DTSTART;VALUE=DATE;TZID=ASIA-JAKARTA:20180225
DTEND;VALUE=DATE;TZID=ASIA-JAKARTA:20180226
TRANSP:TRANSPARENT
END:VEVENT
END:VCALENDAR