BEGIN:VCALENDAR
VERSION:2.0
PRODID:-//Adham Somantrie/AyoLari.in//NONSGML v1.0//EN
CALSCALE:GREGORIAN
BEGIN:VEVENT
UID:e744f91c29ec99f0e662c9177946c627
DTSTAMP:20260420T051224Z
LOCATION:Tangerang Selatan
DESCRIPTION:ayolari.in
URL;VALUE=URI:https://ayolari.in/lomba/triathlon-buddies-6th-anniversary-triathlon-2018
SUMMARY:Triathlon Buddies 6th Anniversary Triathlon 2018
DTSTART;VALUE=DATE;TZID=ASIA-JAKARTA:20180128
DTEND;VALUE=DATE;TZID=ASIA-JAKARTA:20180129
TRANSP:TRANSPARENT
END:VEVENT
END:VCALENDAR