BEGIN:VCALENDAR
VERSION:2.0
PRODID:-//Adham Somantrie/AyoLari.in//NONSGML v1.0//EN
CALSCALE:GREGORIAN
BEGIN:VEVENT
UID:8065d07da4a77621450aa84fee5656d9
DTSTAMP:20260420T051054Z
LOCATION:Jakarta
DESCRIPTION:ayolari.in
URL;VALUE=URI:https://ayolari.in/lomba/grandhika-hotel-baloon-run-2018
SUMMARY:Grandhika Hotel Baloon Run 2018
DTSTART;VALUE=DATE;TZID=ASIA-JAKARTA:20180211
DTEND;VALUE=DATE;TZID=ASIA-JAKARTA:20180212
TRANSP:TRANSPARENT
END:VEVENT
END:VCALENDAR