BEGIN:VCALENDAR
VERSION:2.0
PRODID:-//Adham Somantrie/AyoLari.in//NONSGML v1.0//EN
CALSCALE:GREGORIAN
BEGIN:VEVENT
UID:0f840be9b8db4d3fbd5ba2ce59211f55
DTSTAMP:20260420T082241Z
LOCATION:Magetan
DESCRIPTION:ayolari.in
URL;VALUE=URI:https://ayolari.in/lomba/goat-run-trail-running-series-3-gunung-lawu
SUMMARY:Goat Run Trail Running 2018 Series #3 Gunung Lawu
DTSTART;VALUE=DATE;TZID=ASIA-JAKARTA:20181021
DTEND;VALUE=DATE;TZID=ASIA-JAKARTA:20181022
TRANSP:TRANSPARENT
END:VEVENT
END:VCALENDAR