BEGIN:VCALENDAR
VERSION:2.0
PRODID:-//Adham Somantrie/AyoLari.in//NONSGML v1.0//EN
CALSCALE:GREGORIAN
BEGIN:VEVENT
UID:2ba596643cbbbc20318224181fa46b28
DTSTAMP:20260420T023414Z
LOCATION:Garut
DESCRIPTION:ayolari.in
URL;VALUE=URI:https://ayolari.in/lomba/goat-run-trail-running-series-1-gunung-guntur
SUMMARY:Goat Run Trail Running 2018 Series #1 Gunung Guntur
DTSTART;VALUE=DATE;TZID=ASIA-JAKARTA:20180408
DTEND;VALUE=DATE;TZID=ASIA-JAKARTA:20180409
TRANSP:TRANSPARENT
END:VEVENT
END:VCALENDAR