BEGIN:VCALENDAR
VERSION:2.0
PRODID:-//Adham Somantrie/AyoLari.in//NONSGML v1.0//EN
CALSCALE:GREGORIAN
BEGIN:VEVENT
UID:92262bf907af914b95a0fc33c3f33bf6
DTSTAMP:20260420T023752Z
LOCATION:Denpasar
DESCRIPTION:ayolari.in
URL;VALUE=URI:https://ayolari.in/lomba/i-loop-run-2017-denpasar
SUMMARY:I Loop Run 2017 - Denpasar
DTSTART;VALUE=DATE;TZID=ASIA-JAKARTA:20180114
DTEND;VALUE=DATE;TZID=ASIA-JAKARTA:20180115
TRANSP:TRANSPARENT
END:VEVENT
END:VCALENDAR