BEGIN:VCALENDAR
VERSION:2.0
PRODID:-//Adham Somantrie/AyoLari.in//NONSGML v1.0//EN
CALSCALE:GREGORIAN
BEGIN:VEVENT
UID:9f53d83ec0691550f7d2507d57f4f5a2
DTSTAMP:20260421T203759Z
LOCATION:Tangerang Selatan
DESCRIPTION:ayolari.in
URL;VALUE=URI:https://ayolari.in/lomba/bfi-run-2018
SUMMARY:BFI Run 2018
DTSTART;VALUE=DATE;TZID=ASIA-JAKARTA:20180408
DTEND;VALUE=DATE;TZID=ASIA-JAKARTA:20180409
TRANSP:TRANSPARENT
END:VEVENT
END:VCALENDAR