BEGIN:VCALENDAR
VERSION:2.0
PRODID:-//Adham Somantrie/AyoLari.in//NONSGML v1.0//EN
CALSCALE:GREGORIAN
BEGIN:VEVENT
UID:1cc3633c579a90cfdd895e64021e2163
DTSTAMP:20260420T022348Z
LOCATION:Ubud
DESCRIPTION:ayolari.in
URL;VALUE=URI:https://ayolari.in/lomba/ubud-run-2018
SUMMARY:Ubud Run 2018
DTSTART;VALUE=DATE;TZID=ASIA-JAKARTA:20180902
DTEND;VALUE=DATE;TZID=ASIA-JAKARTA:20180903
TRANSP:TRANSPARENT
END:VEVENT
END:VCALENDAR