BEGIN:VCALENDAR
VERSION:2.0
PRODID:-//Adham Somantrie/AyoLari.in//NONSGML v1.0//EN
CALSCALE:GREGORIAN
BEGIN:VEVENT
UID:1e056d2b0ebd5c878c550da6ac5d3724
DTSTAMP:20260420T022933Z
LOCATION:Jakarta
DESCRIPTION:ayolari.in
URL;VALUE=URI:https://ayolari.in/lomba/bela-negara-run-2017
SUMMARY:Bela Negara Run 2017
DTSTART;VALUE=DATE;TZID=ASIA-JAKARTA:20180114
DTEND;VALUE=DATE;TZID=ASIA-JAKARTA:20180115
TRANSP:TRANSPARENT
END:VEVENT
END:VCALENDAR