BEGIN:VCALENDAR
VERSION:2.0
PRODID:-//Adham Somantrie/AyoLari.in//NONSGML v1.0//EN
CALSCALE:GREGORIAN
BEGIN:VEVENT
UID:8613985ec49eb8f757ae6439e879bb2a
DTSTAMP:20260421T005439Z
LOCATION:Jakarta
DESCRIPTION:ayolari.in
URL;VALUE=URI:https://ayolari.in/lomba/mens-health-indonesia-urbanathlon-jakarta-2014
SUMMARY:Men&apos\;s Health Indonesia Urbanathlon 2014
DTSTART;VALUE=DATE;TZID=ASIA-JAKARTA:20140608
DTEND;VALUE=DATE;TZID=ASIA-JAKARTA:20140609
TRANSP:TRANSPARENT
END:VEVENT
END:VCALENDAR