BEGIN:VCALENDAR
VERSION:2.0
PRODID:-//Adham Somantrie/AyoLari.in//NONSGML v1.0//EN
CALSCALE:GREGORIAN
BEGIN:VEVENT
UID:7647966b7343c29048673252e490f736
DTSTAMP:20260421T005705Z
LOCATION:Jakarta
DESCRIPTION:ayolari.in
URL;VALUE=URI:https://ayolari.in/lomba/have-fun-go-med-5k-fun-run
SUMMARY:Have Fun Go Med 5K Fun Run
DTSTART;VALUE=DATE;TZID=ASIA-JAKARTA:20140504
DTEND;VALUE=DATE;TZID=ASIA-JAKARTA:20140505
TRANSP:TRANSPARENT
END:VEVENT
END:VCALENDAR