BEGIN:VCALENDAR
VERSION:2.0
PRODID:-//Adham Somantrie/AyoLari.in//NONSGML v1.0//EN
CALSCALE:GREGORIAN
BEGIN:VEVENT
UID:07871915a8107172b3b5dc15a6574ad3
DTSTAMP:20260420T234811Z
LOCATION:Jakarta
DESCRIPTION:ayolari.in
URL;VALUE=URI:https://ayolari.in/lomba/mag-run-2017
SUMMARY:MAG Run 2017
DTSTART;VALUE=DATE;TZID=ASIA-JAKARTA:20171029
DTEND;VALUE=DATE;TZID=ASIA-JAKARTA:20171030
TRANSP:TRANSPARENT
END:VEVENT
END:VCALENDAR