BEGIN:VCALENDAR
VERSION:2.0
PRODID:-//Adham Somantrie/AyoLari.in//NONSGML v1.0//EN
CALSCALE:GREGORIAN
BEGIN:VEVENT
UID:170c944978496731ba71f34c25826a34
DTSTAMP:20260421T005333Z
LOCATION:Surakarta
DESCRIPTION:ayolari.in
URL;VALUE=URI:https://ayolari.in/lomba/solo-glow-run-heritage
SUMMARY:Solo Glow Run Heritage
DTSTART;VALUE=DATE;TZID=ASIA-JAKARTA:20171028
DTEND;VALUE=DATE;TZID=ASIA-JAKARTA:20171029
TRANSP:TRANSPARENT
END:VEVENT
END:VCALENDAR