BEGIN:VCALENDAR
VERSION:2.0
PRODID:-//Adham Somantrie/AyoLari.in//NONSGML v1.0//EN
CALSCALE:GREGORIAN
BEGIN:VEVENT
UID:3b3dbaf68507998acd6a5a5254ab2d76
DTSTAMP:20260420T234811Z
LOCATION:Jakarta
DESCRIPTION:ayolari.in
URL;VALUE=URI:https://ayolari.in/lomba/mining-run-2017
SUMMARY:Mining Run 2017
DTSTART;VALUE=DATE;TZID=ASIA-JAKARTA:20171008
DTEND;VALUE=DATE;TZID=ASIA-JAKARTA:20171009
TRANSP:TRANSPARENT
END:VEVENT
END:VCALENDAR