BEGIN:VCALENDAR
VERSION:2.0
PRODID:-//Adham Somantrie/AyoLari.in//NONSGML v1.0//EN
CALSCALE:GREGORIAN
BEGIN:VEVENT
UID:1fc214004c9481e4c8073e85323bfd4b
DTSTAMP:20260420T115612Z
LOCATION:Virtual Run
DESCRIPTION:ayolari.in
URL;VALUE=URI:https://ayolari.in/lomba/5sila-virtual-run
SUMMARY:5Sila Virtual Run
DTSTART;VALUE=DATE;TZID=ASIA-JAKARTA:20171001
DTEND;VALUE=DATE;TZID=ASIA-JAKARTA:20171002
TRANSP:TRANSPARENT
END:VEVENT
END:VCALENDAR