BEGIN:VCALENDAR
VERSION:2.0
PRODID:-//Adham Somantrie/AyoLari.in//NONSGML v1.0//EN
CALSCALE:GREGORIAN
BEGIN:VEVENT
UID:19b650660b253761af189682e03501dd
DTSTAMP:20260421T040809Z
LOCATION:Jakarta
DESCRIPTION:ayolari.in
URL;VALUE=URI:https://ayolari.in/lomba/runninc-2017
SUMMARY:Runninc 2017
DTSTART;VALUE=DATE;TZID=ASIA-JAKARTA:20171015
DTEND;VALUE=DATE;TZID=ASIA-JAKARTA:20171016
TRANSP:TRANSPARENT
END:VEVENT
END:VCALENDAR