BEGIN:VCALENDAR
VERSION:2.0
PRODID:-//Adham Somantrie/AyoLari.in//NONSGML v1.0//EN
CALSCALE:GREGORIAN
BEGIN:VEVENT
UID:68d30a9594728bc39aa24be94b319d21
DTSTAMP:20260421T020731Z
LOCATION:Jakarta
DESCRIPTION:ayolari.in
URL;VALUE=URI:https://ayolari.in/lomba/indonesia-fitness-health-expo-2014-run
SUMMARY:Indonesia Fitness & Health Expo 2014 Run
DTSTART;VALUE=DATE;TZID=ASIA-JAKARTA:20140601
DTEND;VALUE=DATE;TZID=ASIA-JAKARTA:20140602
TRANSP:TRANSPARENT
END:VEVENT
END:VCALENDAR