BEGIN:VCALENDAR
VERSION:2.0
PRODID:-//Adham Somantrie/AyoLari.in//NONSGML v1.0//EN
CALSCALE:GREGORIAN
BEGIN:VEVENT
UID:b0b183c207f46f0cca7dc63b2604f5cc
DTSTAMP:20260421T040531Z
LOCATION:Jakarta
DESCRIPTION:ayolari.in
URL;VALUE=URI:https://ayolari.in/lomba/charity-run-fest-2017-6343
SUMMARY:Charity Run Fest 2017
DTSTART;VALUE=DATE;TZID=ASIA-JAKARTA:20171119
DTEND;VALUE=DATE;TZID=ASIA-JAKARTA:20171120
TRANSP:TRANSPARENT
END:VEVENT
END:VCALENDAR