BEGIN:VCALENDAR
VERSION:2.0
PRODID:-//Adham Somantrie/AyoLari.in//NONSGML v1.0//EN
CALSCALE:GREGORIAN
BEGIN:VEVENT
UID:9778d5d219c5080b9a6a17bef029331c
DTSTAMP:20260421T000338Z
LOCATION:Jakarta
DESCRIPTION:ayolari.in
URL;VALUE=URI:https://ayolari.in/lomba/run-for-life-2014-charity-run-for-the-disabled-children
SUMMARY:Run for Life 2014: Charity Run for the Disabled Children
DTSTART;VALUE=DATE;TZID=ASIA-JAKARTA:20140316
DTEND;VALUE=DATE;TZID=ASIA-JAKARTA:20140317
TRANSP:TRANSPARENT
END:VEVENT
END:VCALENDAR