BEGIN:VCALENDAR
VERSION:2.0
PRODID:-//Adham Somantrie/AyoLari.in//NONSGML v1.0//EN
CALSCALE:GREGORIAN
BEGIN:VEVENT
UID:31839b036f63806cba3f47b93af8ccb5
DTSTAMP:20260420T234929Z
LOCATION:Depok
DESCRIPTION:ayolari.in
URL;VALUE=URI:https://ayolari.in/lomba/inspilari-ui-2017
SUMMARY:Inspilari UI 2017
DTSTART;VALUE=DATE;TZID=ASIA-JAKARTA:20170924
DTEND;VALUE=DATE;TZID=ASIA-JAKARTA:20170925
TRANSP:TRANSPARENT
END:VEVENT
END:VCALENDAR