BEGIN:VCALENDAR
VERSION:2.0
PRODID:-//Adham Somantrie/AyoLari.in//NONSGML v1.0//EN
CALSCALE:GREGORIAN
BEGIN:VEVENT
UID:df7f28ac89ca37bf1abd2f6c184fe1cf
DTSTAMP:20260420T051101Z
LOCATION:Virtual Run
DESCRIPTION:ayolari.in
URL;VALUE=URI:https://ayolari.in/lomba/10k-tiger-challenge-2017
SUMMARY:10K Tiger Challenge 2017
DTSTART;VALUE=DATE;TZID=ASIA-JAKARTA:20170728
DTEND;VALUE=DATE;TZID=ASIA-JAKARTA:20170729
TRANSP:TRANSPARENT
END:VEVENT
END:VCALENDAR