BEGIN:VCALENDAR
VERSION:2.0
PRODID:-//Adham Somantrie/AyoLari.in//NONSGML v1.0//EN
CALSCALE:GREGORIAN
BEGIN:VEVENT
UID:2dace78f80bc92e6d7493423d729448e
DTSTAMP:20260421T005935Z
LOCATION:Jakarta
DESCRIPTION:ayolari.in
URL;VALUE=URI:https://ayolari.in/lomba/urban-run-2017
SUMMARY:Urban Run 2017
DTSTART;VALUE=DATE;TZID=ASIA-JAKARTA:20170730
DTEND;VALUE=DATE;TZID=ASIA-JAKARTA:20170731
TRANSP:TRANSPARENT
END:VEVENT
END:VCALENDAR