BEGIN:VCALENDAR
VERSION:2.0
PRODID:-//Adham Somantrie/AyoLari.in//NONSGML v1.0//EN
CALSCALE:GREGORIAN
BEGIN:VEVENT
UID:fc8001f834f6a5f0561080d134d53d29
DTSTAMP:20260421T203354Z
LOCATION:Virtual Run
DESCRIPTION:ayolari.in
URL;VALUE=URI:https://ayolari.in/lomba/21day-challenge-july-2017
SUMMARY:21Day Challenge July 2017
DTSTART;VALUE=DATE;TZID=ASIA-JAKARTA:20170707
DTEND;VALUE=DATE;TZID=ASIA-JAKARTA:20170708
TRANSP:TRANSPARENT
END:VEVENT
END:VCALENDAR