BEGIN:VCALENDAR
VERSION:2.0
PRODID:-//Adham Somantrie/AyoLari.in//NONSGML v1.0//EN
CALSCALE:GREGORIAN
BEGIN:VEVENT
UID:7f1171a78ce0780a2142a6eb7bc4f3c8
DTSTAMP:20260420T234643Z
LOCATION:Jakarta
DESCRIPTION:ayolari.in
URL;VALUE=URI:https://ayolari.in/lomba/burners-ramadhan-night-race-2017
SUMMARY:Burners Ramadhan Night Race 2017
DTSTART;VALUE=DATE;TZID=ASIA-JAKARTA:20170610
DTEND;VALUE=DATE;TZID=ASIA-JAKARTA:20170611
TRANSP:TRANSPARENT
END:VEVENT
END:VCALENDAR