BEGIN:VCALENDAR
VERSION:2.0
PRODID:-//Adham Somantrie/AyoLari.in//NONSGML v1.0//EN
CALSCALE:GREGORIAN
BEGIN:VEVENT
UID:32bb90e8976aab5298d5da10fe66f21d
DTSTAMP:20260420T234516Z
LOCATION:Jakarta
DESCRIPTION:ayolari.in
URL;VALUE=URI:https://ayolari.in/lomba/samsung-s-run-series-2014-1
SUMMARY:Samsung S Run Series 2014 #1
DTSTART;VALUE=DATE;TZID=ASIA-JAKARTA:20140518
DTEND;VALUE=DATE;TZID=ASIA-JAKARTA:20140519
TRANSP:TRANSPARENT
END:VEVENT
END:VCALENDAR