BEGIN:VCALENDAR
VERSION:2.0
PRODID:-//Adham Somantrie/AyoLari.in//NONSGML v1.0//EN
CALSCALE:GREGORIAN
BEGIN:VEVENT
UID:07c5807d0d927dcd0980f86024e5208b
DTSTAMP:20260420T234643Z
LOCATION:Jakarta
DESCRIPTION:ayolari.in
URL;VALUE=URI:https://ayolari.in/lomba/guinness-world-record-rope-run
SUMMARY:Guinness World Record Rope Run
DTSTART;VALUE=DATE;TZID=ASIA-JAKARTA:20170514
DTEND;VALUE=DATE;TZID=ASIA-JAKARTA:20170515
TRANSP:TRANSPARENT
END:VEVENT
END:VCALENDAR