BEGIN:VCALENDAR
VERSION:2.0
PRODID:-//Adham Somantrie/AyoLari.in//NONSGML v1.0//EN
CALSCALE:GREGORIAN
BEGIN:VEVENT
UID:7cbbc409ec990f19c78c75bd1e06f215
DTSTAMP:20260421T021043Z
LOCATION:Jakarta
DESCRIPTION:ayolari.in
URL;VALUE=URI:https://ayolari.in/lomba/mnc-run-with-heart-5k
SUMMARY:MNC Channels Run With Heart With Tokio Marine 5K
DTSTART;VALUE=DATE;TZID=ASIA-JAKARTA:20140309
DTEND;VALUE=DATE;TZID=ASIA-JAKARTA:20140310
TRANSP:TRANSPARENT
END:VEVENT
END:VCALENDAR