BEGIN:VCALENDAR
VERSION:2.0
PRODID:-//Adham Somantrie/AyoLari.in//NONSGML v1.0//EN
CALSCALE:GREGORIAN
BEGIN:VEVENT
UID:71a3cb155f8dc89bf3d0365288219936
DTSTAMP:20260420T234518Z
LOCATION:Jakarta
DESCRIPTION:ayolari.in
URL;VALUE=URI:https://ayolari.in/lomba/we-run-5k-charity-run
SUMMARY:We Run 5K Charity Run
DTSTART;VALUE=DATE;TZID=ASIA-JAKARTA:20170507
DTEND;VALUE=DATE;TZID=ASIA-JAKARTA:20170508
TRANSP:TRANSPARENT
END:VEVENT
END:VCALENDAR