BEGIN:VCALENDAR
VERSION:2.0
PRODID:-//Adham Somantrie/AyoLari.in//NONSGML v1.0//EN
CALSCALE:GREGORIAN
BEGIN:VEVENT
UID:fae0b27c451c728867a567e8c1bb4e53
DTSTAMP:20260420T183604Z
LOCATION:Palembang
DESCRIPTION:ayolari.in
URL;VALUE=URI:https://ayolari.in/lomba/road-to-jawa-pos-fit-2017-palembang
SUMMARY:Road to Jawa Pos Fit 2017 Palembang
DTSTART;VALUE=DATE;TZID=ASIA-JAKARTA:20170514
DTEND;VALUE=DATE;TZID=ASIA-JAKARTA:20170515
TRANSP:TRANSPARENT
END:VEVENT
END:VCALENDAR