BEGIN:VCALENDAR
VERSION:2.0
PRODID:-//Adham Somantrie/AyoLari.in//NONSGML v1.0//EN
CALSCALE:GREGORIAN
BEGIN:VEVENT
UID:0ff39bbbf981ac0151d340c9aa40e63e
DTSTAMP:20260421T021016Z
LOCATION:Jakarta
DESCRIPTION:ayolari.in
URL;VALUE=URI:https://ayolari.in/lomba/superball-run-2017
SUMMARY:Superball Run 2017
DTSTART;VALUE=DATE;TZID=ASIA-JAKARTA:20171008
DTEND;VALUE=DATE;TZID=ASIA-JAKARTA:20171009
TRANSP:TRANSPARENT
END:VEVENT
END:VCALENDAR