BEGIN:VCALENDAR
VERSION:2.0
PRODID:-//Adham Somantrie/AyoLari.in//NONSGML v1.0//EN
CALSCALE:GREGORIAN
BEGIN:VEVENT
UID:f76a89f0cb91bc419542ce9fa43902dc
DTSTAMP:20260420T234812Z
LOCATION:Jakarta
DESCRIPTION:ayolari.in
URL;VALUE=URI:https://ayolari.in/lomba/forest-day-fun-run-2017
SUMMARY:Forest Day Fun Run 2017
DTSTART;VALUE=DATE;TZID=ASIA-JAKARTA:20170326
DTEND;VALUE=DATE;TZID=ASIA-JAKARTA:20170327
TRANSP:TRANSPARENT
END:VEVENT
END:VCALENDAR