BEGIN:VCALENDAR
VERSION:2.0
PRODID:-//Adham Somantrie/AyoLari.in//NONSGML v1.0//EN
CALSCALE:GREGORIAN
BEGIN:VEVENT
UID:6aca97005c68f1206823815f66102863
DTSTAMP:20260420T050624Z
LOCATION:Lombok
DESCRIPTION:ayolari.in
URL;VALUE=URI:https://ayolari.in/lomba/lombok-marathon-2017
SUMMARY:Lombok Marathon 2017
DTSTART;VALUE=DATE;TZID=ASIA-JAKARTA:20180128
DTEND;VALUE=DATE;TZID=ASIA-JAKARTA:20180129
TRANSP:TRANSPARENT
END:VEVENT
END:VCALENDAR