BEGIN:VCALENDAR
VERSION:2.0
PRODID:-//Adham Somantrie/AyoLari.in//NONSGML v1.0//EN
CALSCALE:GREGORIAN
BEGIN:VEVENT
UID:08c5433a60135c32e34f46a71175850c
DTSTAMP:20260421T011716Z
LOCATION:Jakarta
DESCRIPTION:ayolari.in
URL;VALUE=URI:https://ayolari.in/lomba/pacarrun
SUMMARY:PacarRun
DTSTART;VALUE=DATE;TZID=ASIA-JAKARTA:20170212
DTEND;VALUE=DATE;TZID=ASIA-JAKARTA:20170213
TRANSP:TRANSPARENT
END:VEVENT
END:VCALENDAR