BEGIN:VCALENDAR
VERSION:2.0
PRODID:-//Adham Somantrie/AyoLari.in//NONSGML v1.0//EN
CALSCALE:GREGORIAN
BEGIN:VEVENT
UID:f5deaeeae1538fb6c45901d524ee2f98
DTSTAMP:20260421T021109Z
LOCATION:Jakarta
DESCRIPTION:ayolari.in
URL;VALUE=URI:https://ayolari.in/lomba/bri-run-2016
SUMMARY:BRI Run 2016
DTSTART;VALUE=DATE;TZID=ASIA-JAKARTA:20161204
DTEND;VALUE=DATE;TZID=ASIA-JAKARTA:20161205
TRANSP:TRANSPARENT
END:VEVENT
END:VCALENDAR