BEGIN:VCALENDAR
VERSION:2.0
PRODID:-//Adham Somantrie/AyoLari.in//NONSGML v1.0//EN
CALSCALE:GREGORIAN
BEGIN:VEVENT
UID:a7aeed74714116f3b292a982238f83d2
DTSTAMP:20260420T234643Z
LOCATION:Jakarta
DESCRIPTION:ayolari.in
URL;VALUE=URI:https://ayolari.in/lomba/jakarta-campus-run-2016
SUMMARY:Jakarta Campus Run 2016
DTSTART;VALUE=DATE;TZID=ASIA-JAKARTA:20161218
DTEND;VALUE=DATE;TZID=ASIA-JAKARTA:20161219
TRANSP:TRANSPARENT
END:VEVENT
END:VCALENDAR