BEGIN:VCALENDAR
VERSION:2.0
PRODID:-//Adham Somantrie/AyoLari.in//NONSGML v1.0//EN
CALSCALE:GREGORIAN
BEGIN:VEVENT
UID:8b16ebc056e613024c057be590b542eb
DTSTAMP:20260421T040322Z
LOCATION:Surakarta
DESCRIPTION:ayolari.in
URL;VALUE=URI:https://ayolari.in/lomba/uns-night-run-2016
SUMMARY:UNS Night Run 2016
DTSTART;VALUE=DATE;TZID=ASIA-JAKARTA:20161105
DTEND;VALUE=DATE;TZID=ASIA-JAKARTA:20161106
TRANSP:TRANSPARENT
END:VEVENT
END:VCALENDAR